BEGIN:VCALENDAR
VERSION:2.0
PRODID:-//Hamburger Segel-Verband e.V. - ECPv6.15.20//NONSGML v1.0//EN
CALSCALE:GREGORIAN
METHOD:PUBLISH
X-ORIGINAL-URL:https://segelverband-hh.de
X-WR-CALDESC:Veranstaltungen für Hamburger Segel-Verband e.V.
REFRESH-INTERVAL;VALUE=DURATION:PT1H
X-Robots-Tag:noindex
X-PUBLISHED-TTL:PT1H
BEGIN:VTIMEZONE
TZID:Europe/Berlin
BEGIN:DAYLIGHT
TZOFFSETFROM:+0100
TZOFFSETTO:+0200
TZNAME:CEST
DTSTART:20210328T010000
END:DAYLIGHT
BEGIN:STANDARD
TZOFFSETFROM:+0200
TZOFFSETTO:+0100
TZNAME:CET
DTSTART:20211031T010000
END:STANDARD
BEGIN:DAYLIGHT
TZOFFSETFROM:+0100
TZOFFSETTO:+0200
TZNAME:CEST
DTSTART:20220327T010000
END:DAYLIGHT
BEGIN:STANDARD
TZOFFSETFROM:+0200
TZOFFSETTO:+0100
TZNAME:CET
DTSTART:20221030T010000
END:STANDARD
BEGIN:DAYLIGHT
TZOFFSETFROM:+0100
TZOFFSETTO:+0200
TZNAME:CEST
DTSTART:20230326T010000
END:DAYLIGHT
BEGIN:STANDARD
TZOFFSETFROM:+0200
TZOFFSETTO:+0100
TZNAME:CET
DTSTART:20231029T010000
END:STANDARD
END:VTIMEZONE
BEGIN:VEVENT
DTSTART;VALUE=DATE:20220213
DTEND;VALUE=DATE:20220214
DTSTAMP:20260424T014549
CREATED:20220125T174930Z
LAST-MODIFIED:20220125T175156Z
UID:2339-1644710400-1644796799@segelverband-hh.de
SUMMARY:Fristablauf Antrag Kaderaufnahme
DESCRIPTION:Fristablauf zur Abgabe der Aufnahmeanträge für den Landeskader 2022.\nSiehe: Landeskader 2022 \nAnträge per E-Mail an leistungssegeln@hhsgv.de.
URL:https://segelverband-hh.de/event/fristablauf-antrag-kaderaufnahme/
LOCATION:Online
CATEGORIES:Leistungssport
ORGANIZER;CN="Hamburger Segel-Verband":MAILTO:info@hhsgv.de
END:VEVENT
END:VCALENDAR